BEGIN:VCALENDAR
METHOD:PUBLISH
VERSION:2.0
PRODID:-//WoltLab GmbH//WoltLab Suite Calendar 5.4//EN
CALSCALE:GREGORIAN
X-WR-CALNAME;VALUE=TEXT:Einzelten 2026
BEGIN:VEVENT
TRANSP:OPAQUE
UID:event-47@bzwk.ch
URL:https://bzwk.ch/kalender/event/1047-einzelten-2026/
DTSTART:20260508T060000Z
DTSTAMP:20260508T060000Z
CREATED:20260508T060000Z
SUMMARY:Einzelten 2026
LOCATION:Waldcamping Feldkirch
DTEND:20260510T090000Z
END:VEVENT
END:VCALENDAR
