BEGIN:VCALENDAR
METHOD:PUBLISH
VERSION:2.0
PRODID:-//WoltLab GmbH//WoltLab Suite Calendar 5.4//EN
CALSCALE:GREGORIAN
X-WR-CALNAME;VALUE=TEXT:Campingtour 1
BEGIN:VEVENT
TRANSP:OPAQUE
UID:event-48@bzwk.ch
URL:https://bzwk.ch/kalender/event/1048-campingtour-1/
DTSTART:20260612T060000Z
DTSTAMP:20260612T060000Z
CREATED:20260612T060000Z
SUMMARY:Campingtour 1
LOCATION:Campadi Trun
DTEND:20260614T090000Z
END:VEVENT
END:VCALENDAR
