BEGIN:VCALENDAR
METHOD:PUBLISH
VERSION:2.0
PRODID:-//WoltLab GmbH//WoltLab Suite Calendar 5.4//EN
CALSCALE:GREGORIAN
X-WR-CALNAME;VALUE=TEXT:Campingtour 2
BEGIN:VEVENT
TRANSP:OPAQUE
UID:event-49@bzwk.ch
URL:https://bzwk.ch/kalender/event/1049-campingtour-2/
DTSTART:20260821T060000Z
DTSTAMP:20260821T060000Z
CREATED:20260821T060000Z
SUMMARY:Campingtour 2
LOCATION:Camping St. Moritz
DTEND:20260823T090000Z
END:VEVENT
END:VCALENDAR
