BEGIN:VCALENDAR
METHOD:PUBLISH
VERSION:2.0
PRODID:-//WoltLab GmbH//WoltLab Suite Calendar 5.4//EN
CALSCALE:GREGORIAN
X-WR-CALNAME;VALUE=TEXT:BZWK-Jugendlager
BEGIN:VEVENT
TRANSP:OPAQUE
UID:event-50@bzwk.ch
URL:https://bzwk.ch/kalender/event/1050-bzwk-jugendlager/
DTSTART:20260828T150000Z
DTSTAMP:20260828T150000Z
CREATED:20260828T150000Z
SUMMARY:BZWK-Jugendlager
LOCATION:Schafweide Domat/Ems
DTEND:20260830T090000Z
END:VEVENT
END:VCALENDAR
